BEGIN:VCALENDAR
VERSION:2.0
PRODID:-//jEvents 2.0 for Joomla//EN
CALSCALE:GREGORIAN
METHOD:PUBLISH
BEGIN:VTIMEZONE
TZID:Europe/Berlin
BEGIN:STANDARD
DTSTART:20231029T020000
RDATE:20240331T030000
TZOFFSETFROM:+0200
TZOFFSETTO:+0100
TZNAME:Europe/Berlin CET
END:STANDARD
BEGIN:STANDARD
DTSTART:20241027T020000
RDATE:20250330T030000
TZOFFSETFROM:+0200
TZOFFSETTO:+0100
TZNAME:Europe/Berlin CET
END:STANDARD
BEGIN:STANDARD
DTSTART:20251026T020000
RDATE:20260329T030000
TZOFFSETFROM:+0200
TZOFFSETTO:+0100
TZNAME:Europe/Berlin CET
END:STANDARD
BEGIN:STANDARD
DTSTART:20261025T020000
RDATE:20270328T030000
TZOFFSETFROM:+0200
TZOFFSETTO:+0100
TZNAME:Europe/Berlin CET
END:STANDARD
BEGIN:STANDARD
DTSTART:20271031T020000
RDATE:20280326T030000
TZOFFSETFROM:+0200
TZOFFSETTO:+0100
TZNAME:Europe/Berlin CET
END:STANDARD
BEGIN:STANDARD
DTSTART:20281029T020000
RDATE:20290325T030000
TZOFFSETFROM:+0200
TZOFFSETTO:+0100
TZNAME:Europe/Berlin CET
END:STANDARD
BEGIN:STANDARD
DTSTART:20291028T020000
RDATE:20300331T030000
TZOFFSETFROM:+0200
TZOFFSETTO:+0100
TZNAME:Europe/Berlin CET
END:STANDARD
BEGIN:STANDARD
DTSTART:20301027T020000
RDATE:20310330T030000
TZOFFSETFROM:+0200
TZOFFSETTO:+0100
TZNAME:Europe/Berlin CET
END:STANDARD
BEGIN:STANDARD
DTSTART:20311026T020000
RDATE:20320328T030000
TZOFFSETFROM:+0200
TZOFFSETTO:+0100
TZNAME:Europe/Berlin CET
END:STANDARD
BEGIN:DAYLIGHT
DTSTART:20230824T123000
RDATE:20231029T020000
TZOFFSETFROM:+0100
TZOFFSETTO:+0200
TZNAME:Europe/Berlin CEST
END:DAYLIGHT
BEGIN:DAYLIGHT
DTSTART:20240331T030000
RDATE:20241027T020000
TZOFFSETFROM:+0100
TZOFFSETTO:+0200
TZNAME:Europe/Berlin CEST
END:DAYLIGHT
BEGIN:DAYLIGHT
DTSTART:20250330T030000
RDATE:20251026T020000
TZOFFSETFROM:+0100
TZOFFSETTO:+0200
TZNAME:Europe/Berlin CEST
END:DAYLIGHT
BEGIN:DAYLIGHT
DTSTART:20260329T030000
RDATE:20261025T020000
TZOFFSETFROM:+0100
TZOFFSETTO:+0200
TZNAME:Europe/Berlin CEST
END:DAYLIGHT
BEGIN:DAYLIGHT
DTSTART:20270328T030000
RDATE:20271031T020000
TZOFFSETFROM:+0100
TZOFFSETTO:+0200
TZNAME:Europe/Berlin CEST
END:DAYLIGHT
BEGIN:DAYLIGHT
DTSTART:20280326T030000
RDATE:20281029T020000
TZOFFSETFROM:+0100
TZOFFSETTO:+0200
TZNAME:Europe/Berlin CEST
END:DAYLIGHT
BEGIN:DAYLIGHT
DTSTART:20290325T030000
RDATE:20291028T020000
TZOFFSETFROM:+0100
TZOFFSETTO:+0200
TZNAME:Europe/Berlin CEST
END:DAYLIGHT
BEGIN:DAYLIGHT
DTSTART:20300331T030000
RDATE:20301027T020000
TZOFFSETFROM:+0100
TZOFFSETTO:+0200
TZNAME:Europe/Berlin CEST
END:DAYLIGHT
BEGIN:DAYLIGHT
DTSTART:20310330T030000
RDATE:20311026T020000
TZOFFSETFROM:+0100
TZOFFSETTO:+0200
TZNAME:Europe/Berlin CEST
END:DAYLIGHT
END:VTIMEZONE
BEGIN:VEVENT
UID:57f35032bc8cafef741f5a41f67f4460
CATEGORIES:Werse Allgemein
CREATED:20240326T064723
SUMMARY:Jubiläum Schützengilde St. Sebastian (100 Jahre)
LOCATION:Nettebrock
DESCRIPTION:Horrido Schützenbrüder,\ndie St. Sebastian Schützengilde e.V. feiert am 24.
 08.2024 ihr 100-jähriges Jubiläum. Wir möchten als Verein der Einladung ger
 ne folgen.\nEingeladen sind: Throngesellschaften, Fahnen- und Schützenabord
 nung am Samstag, dem 24. August 2024 um 12:30 Uhr am Westenfeuermarkt.\nDan
 n geht es wie folgt weiter:\n12:30 UhrAntreten der Gastvereine auf dem West
 enfeuermarkt13:15 UhrAbmarsch der Gastvereine zum Marktplatz (Begrüßung und
  Ansprachen) und anschließend Abmarsch zum Festplatz16:30 UhrVogelschießen 
 der Schützenkönige am Festplatz19:00 UhrGroßer Zapfenstreich auf dem Festpl
 atz \n
X-ALT-DESC;FMTTYPE=text/html:<p>Horrido Schützenbrüder,</p><p>die St. Sebastian Schützengilde e.V. feier
 t am 24.08.2024 ihr 100-jähriges Jubiläum. Wir möchten als Verein der Einla
 dung gerne folgen.</p><p><strong>Eingeladen sind: Throngesellschaften, Fahn
 en- und Schützenabordnung am Samstag, dem 24. August 2024 um 12:30 Uhr am W
 estenfeuermarkt.</strong></p><p><span style="text-decoration: underline;">D
 ann geht es wie folgt weiter:</span></p><table style="border-collapse: coll
 apse; width: 99.962%; height: 83.1248px;" border="1"><tbody><tr style="heig
 ht: 20.7812px;"><td style="width: 8.93549%; height: 20.7812px;">12:30 Uhr</
 td><td style="width: 91.0709%; height: 20.7812px;">Antreten der Gastvereine
  auf dem Westenfeuermarkt</td></tr><tr style="height: 20.7812px;"><td style
 ="width: 8.93549%; height: 20.7812px;">13:15 Uhr</td><td style="width: 91.0
 709%; height: 20.7812px;">Abmarsch der Gastvereine zum Marktplatz (Begrüßun
 g und Ansprachen) und anschließend Abmarsch zum Festplatz</td></tr><tr styl
 e="height: 20.7812px;"><td style="width: 8.93549%; height: 20.7812px;">16:3
 0 Uhr</td><td style="width: 91.0709%; height: 20.7812px;">Vogelschießen der
  Schützenkönige am Festplatz</td></tr><tr style="height: 20.7812px;"><td st
 yle="width: 8.93549%; height: 20.7812px;">19:00 Uhr</td><td style="width: 9
 1.0709%; height: 20.7812px;">Großer Zapfenstreich auf dem Festplatz</td></t
 r></tbody></table><p> </p>
CONTACT:Schriftführer Werse
DTSTAMP:20260421T200440
DTSTART;TZID=Europe/Berlin:20240824T123000
DTEND;TZID=Europe/Berlin:20240824T220000
SEQUENCE:0
TRANSP:OPAQUE
END:VEVENT
END:VCALENDAR